BEGIN:VCALENDAR
VERSION:2.0
PRODID:-//Global Locals e.V. - ECPv6.15.18//NONSGML v1.0//EN
CALSCALE:GREGORIAN
METHOD:PUBLISH
X-ORIGINAL-URL:https://globallocals.de
X-WR-CALDESC:Events for Global Locals e.V.
REFRESH-INTERVAL;VALUE=DURATION:PT1H
X-Robots-Tag:noindex
X-PUBLISHED-TTL:PT1H
BEGIN:VTIMEZONE
TZID:Europe/Berlin
BEGIN:DAYLIGHT
TZOFFSETFROM:+0100
TZOFFSETTO:+0200
TZNAME:CEST
DTSTART:20250330T010000
END:DAYLIGHT
BEGIN:STANDARD
TZOFFSETFROM:+0200
TZOFFSETTO:+0100
TZNAME:CET
DTSTART:20251026T010000
END:STANDARD
BEGIN:DAYLIGHT
TZOFFSETFROM:+0100
TZOFFSETTO:+0200
TZNAME:CEST
DTSTART:20260329T010000
END:DAYLIGHT
BEGIN:STANDARD
TZOFFSETFROM:+0200
TZOFFSETTO:+0100
TZNAME:CET
DTSTART:20261025T010000
END:STANDARD
BEGIN:DAYLIGHT
TZOFFSETFROM:+0100
TZOFFSETTO:+0200
TZNAME:CEST
DTSTART:20270328T010000
END:DAYLIGHT
BEGIN:STANDARD
TZOFFSETFROM:+0200
TZOFFSETTO:+0100
TZNAME:CET
DTSTART:20271031T010000
END:STANDARD
END:VTIMEZONE
BEGIN:VEVENT
DTSTART;TZID=Europe/Berlin:20260426T180000
DTEND;TZID=Europe/Berlin:20260426T203000
DTSTAMP:20260421T173239
CREATED:20260420T203934Z
LAST-MODIFIED:20260420T204009Z
UID:10000854-1777226400-1777235400@globallocals.de
SUMMARY:Global Locals AGM (Annual General Meeting)
DESCRIPTION:It’s that time of year again! We invite you to the Global Locals AGM at the iconic Weinerei (located in the Ostermayr Passage\, Königstraße 33-37\, 90402 Nürnberg). \nThis is the primary opportunity for our members to influence the future direction of the association. While voting is reserved for members\, non-members are more than welcome to join us in an observer role. \nWe’ll kick things off at 6:00 PM with a special stand-up routine by Sidharth Singhal to get the evening started with a laugh!
URL:https://globallocals.de/event/global-locals-agm-annual-general-meeting/
LOCATION:Weinerei\, Ostermayer Passage\, Nuremberg\, Bavaria\, 90402\, Germany
ATTACH;FMTTYPE=image/avif:https://globallocals.de/wp-content/uploads/2026/01/Global-Locals-Logo.avif
ORGANIZER;CN="Global Locals":MAILTO:events@globallocals.de
END:VEVENT
END:VCALENDAR